BEGIN:VCALENDAR
VERSION:2.0
PRODID:-//Lady-Blog - ECPv6.14.2//NONSGML v1.0//EN
CALSCALE:GREGORIAN
METHOD:PUBLISH
X-WR-CALNAME:Lady-Blog
X-ORIGINAL-URL:https://www.lady-blog.de
X-WR-CALDESC:Veranstaltungen für Lady-Blog
REFRESH-INTERVAL;VALUE=DURATION:PT1H
X-Robots-Tag:noindex
X-PUBLISHED-TTL:PT1H
BEGIN:VTIMEZONE
TZID:Europe/Paris
BEGIN:DAYLIGHT
TZOFFSETFROM:+0100
TZOFFSETTO:+0200
TZNAME:CEST
DTSTART:20260329T010000
END:DAYLIGHT
BEGIN:STANDARD
TZOFFSETFROM:+0200
TZOFFSETTO:+0100
TZNAME:CET
DTSTART:20261025T010000
END:STANDARD
END:VTIMEZONE
BEGIN:VEVENT
DTSTART;VALUE=DATE:20260424
DTEND;VALUE=DATE:20260427
DTSTAMP:20260420T012451
CREATED:20240116T152526Z
LAST-MODIFIED:20260214T093412Z
UID:10000004-1776988800-1777247999@www.lady-blog.de
SUMMARY:Das Gartenfest Laubach
DESCRIPTION:Das Ambiente ist traumhaft: Im Hintergrund das Schloss Laubach\, davor im historischen Landschaftspark die weißen Pagodenzelte der rund 130 ausgewählten Aussteller\, die alles zusammengetragen haben\, was die Herzen von Gartenfreunden und Lifestylefans höherschlagen lässt: Farbenfrohe Pflanzen\, Gartenaccessoires sowie ein leckeres kulinarisches Angebot.
URL:https://www.lady-blog.de/veranstaltung/das-gartenfest-laubach/
LOCATION:Schloss Laubach\, Philipp-Reis-Strasse\, Laubach\, Hessen\, 35321\, Deutschland
CATEGORIES:Gartenmessen
ATTACH;FMTTYPE=image/jpeg:https://www.lady-blog.de/wp-content/uploads/2023/02/Laubach.jpg
END:VEVENT
END:VCALENDAR