BEGIN:VCALENDAR
VERSION:2.0
PRODID:-//Lady-Blog - ECPv6.14.2//NONSGML v1.0//EN
CALSCALE:GREGORIAN
METHOD:PUBLISH
X-WR-CALNAME:Lady-Blog
X-ORIGINAL-URL:https://www.lady-blog.de
X-WR-CALDESC:Veranstaltungen für Lady-Blog
REFRESH-INTERVAL;VALUE=DURATION:PT1H
X-Robots-Tag:noindex
X-PUBLISHED-TTL:PT1H
BEGIN:VTIMEZONE
TZID:Europe/Paris
BEGIN:DAYLIGHT
TZOFFSETFROM:+0100
TZOFFSETTO:+0200
TZNAME:CEST
DTSTART:20260329T010000
END:DAYLIGHT
BEGIN:STANDARD
TZOFFSETFROM:+0200
TZOFFSETTO:+0100
TZNAME:CET
DTSTART:20261025T010000
END:STANDARD
END:VTIMEZONE
BEGIN:VEVENT
DTSTART;VALUE=DATE:20260514
DTEND;VALUE=DATE:20260518
DTSTAMP:20260419T204756
CREATED:20240323T103202Z
LAST-MODIFIED:20260214T101203Z
UID:10000067-1778716800-1779062399@www.lady-blog.de
SUMMARY:Die Ambienta auf Gut Sierhagen
DESCRIPTION:Die Lifestyle-Messe „Ambienta“ findet jedes Jahr zu Himmelfahrt auf dem Gutshof Sierhagen in der holsteinischen Schweiz statt. Über 160 ausgewählte Aussteller präsentieren Schönes aus den Bereichen Wohnen\, Garten\, Mode und Kulinarik. Dazu gibt es ein umfangreiches Rahmen-Programm wie Bootsfahrten über den Schlossteich und Kutschfahrten durch die Rapsblüte!
URL:https://www.lady-blog.de/veranstaltung/die-ambienta-auf-gut-sierhagen/
LOCATION:Gut Sierhagen\, Schlosshof 2\, Altenkrempe\, Schleswig-Holstein\, 23730\, Deutschland
CATEGORIES:Landpartien
ATTACH;FMTTYPE=image/jpeg:https://www.lady-blog.de/wp-content/uploads/2024/03/ambienta.jpg
END:VEVENT
END:VCALENDAR