BEGIN:VCALENDAR
VERSION:2.0
PRODID:-//Lady-Blog - ECPv6.14.2//NONSGML v1.0//EN
CALSCALE:GREGORIAN
METHOD:PUBLISH
X-WR-CALNAME:Lady-Blog
X-ORIGINAL-URL:https://www.lady-blog.de
X-WR-CALDESC:Veranstaltungen für Lady-Blog
REFRESH-INTERVAL;VALUE=DURATION:PT1H
X-Robots-Tag:noindex
X-PUBLISHED-TTL:PT1H
BEGIN:VTIMEZONE
TZID:Europe/Paris
BEGIN:DAYLIGHT
TZOFFSETFROM:+0100
TZOFFSETTO:+0200
TZNAME:CEST
DTSTART:20260329T010000
END:DAYLIGHT
BEGIN:STANDARD
TZOFFSETFROM:+0200
TZOFFSETTO:+0100
TZNAME:CET
DTSTART:20261025T010000
END:STANDARD
END:VTIMEZONE
BEGIN:VEVENT
DTSTART;VALUE=DATE:20260709
DTEND;VALUE=DATE:20260713
DTSTAMP:20260419T175519
CREATED:20230227T120109Z
LAST-MODIFIED:20260215T130633Z
UID:10000013-1783555200-1783900799@www.lady-blog.de
SUMMARY:LIFE'S FINEST: Markt im Park Gut Schwarzerdhof
DESCRIPTION:Marianca Baronin und Philipp Baron von Papius laden zum 20-jährigen Jubliläum „LIFE’S FINEST: Der edle Markt im Park“ auf Gut Schwarzerdhof. In den liebevoll dekorierten Pagodenzelten warten hochwertige Angebote von über 130 handverlesenen Ausstellern auf Euch: Im Fokus stehen nachhaltige und edle Handarbeiten sowie umweltschonende\, langlebige Produkte.
URL:https://www.lady-blog.de/veranstaltung/lifes-finest-gut-schwarzerdhof/
LOCATION:Gut Schwarzerdhof\, Bretten\, Baden-Württemberg\, 75015\, Deutschland
CATEGORIES:Landpartien
ATTACH;FMTTYPE=image/webp:https://www.lady-blog.de/wp-content/uploads/2023/02/gut-schwarzerdhof.png.webp
END:VEVENT
END:VCALENDAR