BEGIN:VCALENDAR
VERSION:2.0
PRODID:-//Lady-Blog - ECPv6.14.2//NONSGML v1.0//EN
CALSCALE:GREGORIAN
METHOD:PUBLISH
X-ORIGINAL-URL:https://www.lady-blog.de
X-WR-CALDESC:Veranstaltungen für Lady-Blog
REFRESH-INTERVAL;VALUE=DURATION:PT1H
X-Robots-Tag:noindex
X-PUBLISHED-TTL:PT1H
BEGIN:VTIMEZONE
TZID:Europe/Paris
BEGIN:DAYLIGHT
TZOFFSETFROM:+0100
TZOFFSETTO:+0200
TZNAME:CEST
DTSTART:20250330T010000
END:DAYLIGHT
BEGIN:STANDARD
TZOFFSETFROM:+0200
TZOFFSETTO:+0100
TZNAME:CET
DTSTART:20251026T010000
END:STANDARD
END:VTIMEZONE
BEGIN:VEVENT
DTSTART;VALUE=DATE:20251114
DTEND;VALUE=DATE:20251215
DTSTAMP:20260420T134022
CREATED:20230303T084127Z
LAST-MODIFIED:20250320T202548Z
UID:10000019-1763078400-1765756799@www.lady-blog.de
SUMMARY:Der Pronstorfer Weihnachtsmarkt
DESCRIPTION:Bereits zum 23. Mal findet dieses Jahr die Pronstorfer Weihnacht statt. Das Herzstück des Gutes ist das 1728 erbaute barocke Herrenhaus\, welches als Adventskalender mit 24 nummerierten und mit roten Schleifen versehenen Fenstern für Vorfreude sorgt. Die alten Gutsscheunen\, Speicher und Ställe und die Lindenallee mit ihren Ausstellern erstrahlen in weihnachtlichem Glanz.
URL:https://www.lady-blog.de/veranstaltung/der-pronstorfer-weihnachtsmarkt/
LOCATION:Gut Pronstorf\, Gutshof 3\, Pronstorf\, Schleswig-Holstein\, 23820\, Deutschland
CATEGORIES:Weihnachtsmärkte
ATTACH;FMTTYPE=image/jpeg:https://www.lady-blog.de/wp-content/uploads/2023/03/Pronstorf.jpg
END:VEVENT
END:VCALENDAR