BEGIN:VCALENDAR
VERSION:2.0
PRODID:-//Lady-Blog - ECPv6.14.2//NONSGML v1.0//EN
CALSCALE:GREGORIAN
METHOD:PUBLISH
X-WR-CALNAME:Lady-Blog
X-ORIGINAL-URL:https://www.lady-blog.de
X-WR-CALDESC:Veranstaltungen für Lady-Blog
REFRESH-INTERVAL;VALUE=DURATION:PT1H
X-Robots-Tag:noindex
X-PUBLISHED-TTL:PT1H
BEGIN:VTIMEZONE
TZID:Europe/Paris
BEGIN:DAYLIGHT
TZOFFSETFROM:+0100
TZOFFSETTO:+0200
TZNAME:CEST
DTSTART:20240331T010000
END:DAYLIGHT
BEGIN:STANDARD
TZOFFSETFROM:+0200
TZOFFSETTO:+0100
TZNAME:CET
DTSTART:20241027T010000
END:STANDARD
END:VTIMEZONE
BEGIN:VEVENT
DTSTART;VALUE=DATE:20241108
DTEND;VALUE=DATE:20241111
DTSTAMP:20260420T133852
CREATED:20231004T073244Z
LAST-MODIFIED:20241001T082624Z
UID:10000056-1731024000-1731283199@www.lady-blog.de
SUMMARY:Die 24. Country Secrets in Rixdorf
DESCRIPTION:Seit 2011 finden regelmäßig hochwertige Verkaufsausstellungen mit exklusiven Anbietern aus ​ganz Deutschland in der liebevoll von Jutta v. Behr vorbereiteten Scheune im Gut Rixdorf statt. Vom 8. bis 10. November könnt Ihr wieder Klassisch-Schönes im gemütlichem Ambiente der Festscheune erwerben\, z.b. bei SchwesterSchwester\, Carlitos\, Fabian Zug und Gräfin Waldersee.
URL:https://www.lady-blog.de/veranstaltung/country-secrets-rixdorf/
LOCATION:Festscheune Rixdorf\, Lebrade/Plön\, Schleswig-Holstein\, 24306\, Deutschland
CATEGORIES:Verkaufsausstellung
ATTACH;FMTTYPE=image/jpeg:https://www.lady-blog.de/wp-content/uploads/2023/10/rixdorf-1.jpg
END:VEVENT
END:VCALENDAR