BEGIN:VCALENDAR
VERSION:2.0
PRODID:-//Lady-Blog - ECPv6.14.2//NONSGML v1.0//EN
CALSCALE:GREGORIAN
METHOD:PUBLISH
X-WR-CALNAME:Lady-Blog
X-ORIGINAL-URL:https://www.lady-blog.de
X-WR-CALDESC:Veranstaltungen für Lady-Blog
REFRESH-INTERVAL;VALUE=DURATION:PT1H
X-Robots-Tag:noindex
X-PUBLISHED-TTL:PT1H
BEGIN:VTIMEZONE
TZID:Europe/Paris
BEGIN:DAYLIGHT
TZOFFSETFROM:+0100
TZOFFSETTO:+0200
TZNAME:CEST
DTSTART:20260329T010000
END:DAYLIGHT
BEGIN:STANDARD
TZOFFSETFROM:+0200
TZOFFSETTO:+0100
TZNAME:CET
DTSTART:20261025T010000
END:STANDARD
END:VTIMEZONE
BEGIN:VEVENT
DTSTART;VALUE=DATE:20260523
DTEND;VALUE=DATE:20260526
DTSTAMP:20260421T061612
CREATED:20240116T074548Z
LAST-MODIFIED:20260214T142811Z
UID:10000010-1779494400-1779753599@www.lady-blog.de
SUMMARY:British Weekend im Rittergut Remeringhausen
DESCRIPTION:Beim British Weekend dreht sich auf dem historischen Rittergut Remeringhausen alles um den britischen Lifestyle. Zahlreiche Aussteller präsentieren englischen Produkte\, daneben gibt es musikalische Highlights\, britische Aktivitäten\, Kulinarik wie die typische Tea Time\, eine Border-Collie- und Shetland-Pony-Show\, einen Falkner\, britische Oldtimer\, Literaturlesungen uvm.
URL:https://www.lady-blog.de/veranstaltung/das-british-weekend-im-rittergut-remeringhausen/
LOCATION:Rittergut Remeringhausen\, Stadthagen\, Niedersachsen\, 31655\, Deutschland
CATEGORIES:Landpartien
ATTACH;FMTTYPE=image/jpeg:https://www.lady-blog.de/wp-content/uploads/2021/07/rittergut-remeringhausen.jpg
END:VEVENT
BEGIN:VEVENT
DTSTART;VALUE=DATE:20260604
DTEND;VALUE=DATE:20260608
DTSTAMP:20260421T061612
CREATED:20230226T195159Z
LAST-MODIFIED:20260214T144202Z
UID:10000006-1780531200-1780876799@www.lady-blog.de
SUMMARY:Die 26. Landpartie auf Schloss Bückeburg
DESCRIPTION:Alexander Fürst zu Schaumburg-Lippe und Mahkameh zu Schaumburg-Lippe laden zur 26. Landpartie Schloss Bückeburg ein. Die diesjährige Landpartie steht unter dem Motto „Japan“. Es erwarten Euch wieder zahlreiche Aussteller aus den Bereichen Garten\, Wohnen\, Lifestyle\, Mode\, Kulinarik und Kunsthandwerk sowie ein buntes Rahmenprogramm.
URL:https://www.lady-blog.de/veranstaltung/landpartie-schloss-bueckeburg/
LOCATION:Schloss Bückeburg\, Schlossplatz 6\, Bückeburg\, Niedersachsen\, 31675\, Deutschland
CATEGORIES:Landpartien
ATTACH;FMTTYPE=image/jpeg:https://www.lady-blog.de/wp-content/uploads/2023/02/bueckeburg-2.jpg
END:VEVENT
BEGIN:VEVENT
DTSTART;VALUE=DATE:20260604
DTEND;VALUE=DATE:20260608
DTSTAMP:20260421T061612
CREATED:20230227T072901Z
LAST-MODIFIED:20260214T144412Z
UID:10000009-1780531200-1780876799@www.lady-blog.de
SUMMARY:Landpartie the Finest auf Schloss Lembeck
DESCRIPTION:Die Veranstalter der Schloss Gödens Entertainment GmbH laden zusammen mit Graf und Gräfin von Merveldt zur Landpartie ins Wasserschloss Lembeck ein. Rund 150 Aussteller\, ein Rahmenprogramm mit Kunst\, Kultur und Erlebnisse sowie genussvolle Momente erwarten Euch auf dem herrschaftlichen Anwesen der Stadt Dorsten im südlichen Münsterland.
URL:https://www.lady-blog.de/veranstaltung/landpartie-schloss-lembeck/
LOCATION:Schloss Lembeck\, Dorsten-Lembeck\, Nordrhein-Westfalen\, 46286\, Deutschland
CATEGORIES:Landpartien
ATTACH;FMTTYPE=image/jpeg:https://www.lady-blog.de/wp-content/uploads/2023/02/Lembeck.jpg
END:VEVENT
BEGIN:VEVENT
DTSTART;VALUE=DATE:20260604
DTEND;VALUE=DATE:20260608
DTSTAMP:20260421T061612
CREATED:20230303T090258Z
LAST-MODIFIED:20260214T142319Z
UID:10000021-1780531200-1780876799@www.lady-blog.de
SUMMARY:Die Country Fair auf Gut Stockseehof
DESCRIPTION:Weiße Pavillons und farbenfrohe Blumenarrangements eingebettet in den Park und die Gärten des Gutes: Das ist die 24. Park & Garden – Country Fair auf Stockseehof. Lasst Euch inspirieren von dem Angebot der um die 180 Aussteller\, die Euch alles zeigen\, was Haus und Hof\, Garten und Balkon schöner macht! Daneben gibt’s natürlich auch eine exquisite Auswahl an Delikatessen.
URL:https://www.lady-blog.de/veranstaltung/park-garden-auf-gut-stockseehof/
LOCATION:Gut Stockseehof\, Stockseehof 1\, Stocksee\, Schleswig-Holstein\, 24326\, Deutschland
CATEGORIES:Gartenmessen
ATTACH;FMTTYPE=image/jpeg:https://www.lady-blog.de/wp-content/uploads/2023/03/gutstockseehof-2.jpg
END:VEVENT
BEGIN:VEVENT
DTSTART;VALUE=DATE:20260604
DTEND;VALUE=DATE:20260608
DTSTAMP:20260421T061612
CREATED:20230309T095158Z
LAST-MODIFIED:20260214T143308Z
UID:10000031-1780531200-1780876799@www.lady-blog.de
SUMMARY:Longines Balve Optimum
DESCRIPTION:Neben einem Sportprogramm der Spitzenklasse ist das LONGINES BALVE OPTIMUM traditionsgemäß auch für seine hochwertige Lifestyle-Ausstellung bekannt. Mehr als 100 ausgesuchte Aussteller präsentieren auf dem weitläufigen Gelände Schloss Wocklum jährlich das Beste aus den Bereichen Mode\, Accessoires und kulinarische Köstlichkeiten.
URL:https://www.lady-blog.de/veranstaltung/longines-balve-optimum/
LOCATION:Schloss Wocklum\, Wocklum 1\, Balve\, Nordrhein-Westfalen\, 58802\, Deutschland
CATEGORIES:Reitsport
ATTACH;FMTTYPE=image/jpeg:https://www.lady-blog.de/wp-content/uploads/2023/03/longines-balve.jpg
END:VEVENT
BEGIN:VEVENT
DTSTART;VALUE=DATE:20260612
DTEND;VALUE=DATE:20260615
DTSTAMP:20260421T061612
CREATED:20260214T140815Z
LAST-MODIFIED:20260214T141716Z
UID:10000087-1781222400-1781481599@www.lady-blog.de
SUMMARY:Fürstliches Gartenfest in Kloster Eberbach
DESCRIPTION:Erstmals findet das Fürstliche Gartenfest im berühmten Kloster Eberbach in Eltville im Rheingau statt – geprägt von jahrhundertealter Gartenkultur und beeindruckender Architektur. Vom 12. bis 14. Juni 2026 erlebt Ihr inmitten der historischen Klosteranlage zahlreiche Aussteller mit hochwertigen Produkten rund um Pflanzen\, Gartendesign\, Wohnen und Lifestyle.
URL:https://www.lady-blog.de/veranstaltung/fuerstliches-gartenfest-kloster-eberbach/
LOCATION:Kloster Eberbach\, Eltville am Rhein\, Hessen\, 65346\, Germany
CATEGORIES:Gartenmessen
ATTACH;FMTTYPE=image/png:https://www.lady-blog.de/wp-content/uploads/2026/02/kloster-eberbach.png
END:VEVENT
BEGIN:VEVENT
DTSTART;VALUE=DATE:20260620
DTEND;VALUE=DATE:20260622
DTSTAMP:20260421T061612
CREATED:20250414T111516Z
LAST-MODIFIED:20260214T144637Z
UID:10000083-1781913600-1782086399@www.lady-blog.de
SUMMARY:Mittsommer Remise: Festival der Gutshäuser MV
DESCRIPTION:Beim Kulturerbe-Festival der baltischen Gutshäuser nehmen über 70 denkmalgeschützte Häuser in Mecklenburg-Vorpommern teil. Nehmt an einer Führung durch Herrenhäuser und Parks teil\, besucht eine Ausstellung\, erkundet Ruinen und sanierte Schmuckstücke\, lernt Gutsherren und Schlossdamen kennen und erfahrt mehr über die bis zu 300 Jahre alte Geschichte.
URL:https://www.lady-blog.de/veranstaltung/mittsommer-remise/
LOCATION:Nordrhein-Westfalen
CATEGORIES:Landpartien
ATTACH;FMTTYPE=image/jpeg:https://www.lady-blog.de/wp-content/uploads/2025/04/sommerliche-idylle-bei-der-mittsommerremise-2025-picknick-vor-dem-schloss.jpg
END:VEVENT
BEGIN:VEVENT
DTSTART;VALUE=DATE:20260703
DTEND;VALUE=DATE:20260706
DTSTAMP:20260421T061612
CREATED:20260218T170004Z
LAST-MODIFIED:20260218T171054Z
UID:10000088-1783036800-1783295999@www.lady-blog.de
SUMMARY:Gartentage auf Schloss Tüssling
DESCRIPTION:Zum 21. Mal eröffnet Gräfin Stephanie von Pfuel am ersten Wochenende im Juli die Gartentage auf Schloss Tüßling\, dieses Mal unter dem Motto: „Grüner geht immer“. Über 180 ausgesuchte Aussteller präsentieren rund um das malerische Schloss ihre Ideen zum Garten und stilvollen Wohnen. Das Angebot bietet einen breiten Überblick über die neuesten Trends der Gartenkultur.
URL:https://www.lady-blog.de/veranstaltung/gartentage-auf-schloss-tuessling/
LOCATION:Schloss Tüssling\, Marktpl. 1\, Tüßling\, Bayern\, 84577\, Germany
CATEGORIES:Gartenmessen
ATTACH;FMTTYPE=image/jpeg:https://www.lady-blog.de/wp-content/uploads/2026/02/tuessling-1.jpg
END:VEVENT
BEGIN:VEVENT
DTSTART;VALUE=DATE:20260709
DTEND;VALUE=DATE:20260713
DTSTAMP:20260421T061612
CREATED:20230227T120109Z
LAST-MODIFIED:20260215T130633Z
UID:10000013-1783555200-1783900799@www.lady-blog.de
SUMMARY:LIFE'S FINEST: Markt im Park Gut Schwarzerdhof
DESCRIPTION:Marianca Baronin und Philipp Baron von Papius laden zum 20-jährigen Jubliläum „LIFE’S FINEST: Der edle Markt im Park“ auf Gut Schwarzerdhof. In den liebevoll dekorierten Pagodenzelten warten hochwertige Angebote von über 130 handverlesenen Ausstellern auf Euch: Im Fokus stehen nachhaltige und edle Handarbeiten sowie umweltschonende\, langlebige Produkte.
URL:https://www.lady-blog.de/veranstaltung/lifes-finest-gut-schwarzerdhof/
LOCATION:Gut Schwarzerdhof\, Bretten\, Baden-Württemberg\, 75015\, Deutschland
CATEGORIES:Landpartien
ATTACH;FMTTYPE=image/webp:https://www.lady-blog.de/wp-content/uploads/2023/02/gut-schwarzerdhof.png.webp
END:VEVENT
BEGIN:VEVENT
DTSTART;VALUE=DATE:20260731
DTEND;VALUE=DATE:20260803
DTSTAMP:20260421T061612
CREATED:20230226T194222Z
LAST-MODIFIED:20260215T130817Z
UID:10000005-1785456000-1785715199@www.lady-blog.de
SUMMARY:16 Jahre Das Gartenfest Corvey
DESCRIPTION:Das Weltkulturerbe Schloss Corvey in Höxter lädt mit über 110 ausgewählten Ausstellern zum Gartenfest Corvey. Für drei Tage öffnet seine Durchlaucht Viktor V.\, Herzog von Ratibor und Fürst von Corvey\, seinen Privatgarten exklusiv für das Gartenfest Corvey. Die historische Kulisse verwandelt sich dann in ein Paradies für alle Freunde von Gärten\, Pflanzen und schönen Dingen.
URL:https://www.lady-blog.de/veranstaltung/das-gartenfest-corvey/
LOCATION:Schloss Corvey\, Schloss Corvey 1\, Höxter\, Nordrhein-Westfalen\, 37671\, Deutschland
CATEGORIES:Gartenmessen
ATTACH;FMTTYPE=image/jpeg:https://www.lady-blog.de/wp-content/uploads/2023/02/Corvey.jpg
END:VEVENT
BEGIN:VEVENT
DTSTART;VALUE=DATE:20260911
DTEND;VALUE=DATE:20260914
DTSTAMP:20260421T061612
CREATED:20230315T191006Z
LAST-MODIFIED:20260215T130948Z
UID:10000033-1789084800-1789343999@www.lady-blog.de
SUMMARY:Landpartie Gut Barbarastein
DESCRIPTION:Zur Landpartie Gut Barbarastein zeigt sich das Gut von Gastgeber Lothar Weitz von seiner schönsten Seite: Die Natur rund um das Anwesen erinnert bei spätsommerlichen Temperaturen an den nordamerikanischen Indian Summer\, die über 100 Aussteller (u.a. wird Schwester Schwester vor Ort sein) machen mit ihren Produkten bereits Lust auf den Herbst und Winter.
URL:https://www.lady-blog.de/veranstaltung/landpartie-gut-barbarastein/
LOCATION:Gut Barbarastein\, Gut Barbarastein 1\, Rommerskirchen\, Nordrhein-Westfalen\, 41569\, Deutschland
CATEGORIES:Landpartien
ATTACH;FMTTYPE=image/jpeg:https://www.lady-blog.de/wp-content/uploads/2023/03/gut-barbarastein.jpg
END:VEVENT
END:VCALENDAR